BEGIN:VCALENDAR
VERSION:2.0
PRODID:icalendar-ruby
CALSCALE:GREGORIAN
BEGIN:VEVENT
DTSTAMP:20181224T055457Z
UID:b5fdd37a-a5c2-409c-a4ec-a4d9ff8154a2
DTSTART;VALUE=DATE:20090426
DESCRIPTION:Property ID# 201056\, Locatoin: On Site\, Time: 12 Noon
SUMMARY:Auction for 
END:VEVENT
END:VCALENDAR
