BEGIN:VCALENDAR
VERSION:2.0
PRODID:icalendar-ruby
CALSCALE:GREGORIAN
BEGIN:VEVENT
DTSTAMP:20181224T055501Z
UID:8cd4ec2d-0641-4477-a870-9b7fdfbaf295
DTSTART;VALUE=DATE:20091125
DESCRIPTION:Property ID# 212555\, Locatoin: The Waterfront Hotel\, 1 Egmont
  Street\, New Plymouth\, Time: 5.30pm
SUMMARY:Auction for 
END:VEVENT
END:VCALENDAR
