BEGIN:VCALENDAR
VERSION:2.0
PRODID:icalendar-ruby
CALSCALE:GREGORIAN
BEGIN:VEVENT
DTSTAMP:20181224T055505Z
UID:c7bfbb25-97fd-4b81-be8f-0901217e4860
DTSTART;VALUE=DATE:20110224
DESCRIPTION:Property ID# 220990\, Locatoin: Auto Lodge New Plymouth\, Time:
  6.00pm
SUMMARY:Auction for 
END:VEVENT
END:VCALENDAR
