BEGIN:VCALENDAR
VERSION:2.0
PRODID:icalendar-ruby
CALSCALE:GREGORIAN
BEGIN:VEVENT
DTSTAMP:20181224T055141Z
UID:56ef2ef0-2123-4c59-a786-3e1d10d9d1ff
DTSTART;VALUE=DATE:20020807
DESCRIPTION:Property ID# 34083
SUMMARY:Auction for 
END:VEVENT
END:VCALENDAR
