BEGIN:VCALENDAR
VERSION:2.0
PRODID:icalendar-ruby
CALSCALE:GREGORIAN
BEGIN:VEVENT
DTSTAMP:20181224T055536Z
UID:d9bbb311-9a71-4457-9632-b43d96fe98ba
DTSTART;VALUE=DATE:20160322
DESCRIPTION:Property ID# 363841\, Locatoin: Offices of TSB Realty\, 120 Dev
 on Street East\, New Plymouth\, Time: 4pm
SUMMARY:Auction for 
END:VEVENT
END:VCALENDAR
