BEGIN:VCALENDAR
VERSION:2.0
PRODID:icalendar-ruby
CALSCALE:GREGORIAN
BEGIN:VEVENT
DTSTAMP:20181224T055051Z
UID:946a5acc-def9-4665-8174-e9e235f05669
DTSTART;VALUE=DATE:20021001
DESCRIPTION:Property ID# 39468
SUMMARY:Auction for 
END:VEVENT
END:VCALENDAR
