BEGIN:VCALENDAR
VERSION:2.0
PRODID:icalendar-ruby
CALSCALE:GREGORIAN
BEGIN:VEVENT
DTSTAMP:20181224T055511Z
UID:43cbfe20-d77c-4ab0-9652-227d7134b062
DTSTART;VALUE=DATE:20170930
DESCRIPTION:Property ID# 404234\, Locatoin: On Site\, Time: 12 midday
SUMMARY:Auction for 
END:VEVENT
END:VCALENDAR
