BEGIN:VCALENDAR
VERSION:2.0
PRODID:icalendar-ruby
CALSCALE:GREGORIAN
BEGIN:VEVENT
DTSTAMP:20181224T055516Z
UID:0b6cabe0-5acb-4a8f-ad3d-d9336e0ab450
DTSTART;VALUE=DATE:20180314
DESCRIPTION:Property ID# 417414\, Time: 4:00 PM
SUMMARY:Auction for 
END:VEVENT
END:VCALENDAR
