BEGIN:VCALENDAR
VERSION:2.0
PRODID:icalendar-ruby
CALSCALE:GREGORIAN
BEGIN:VEVENT
DTSTAMP:20181224T055059Z
UID:76591351-10f1-4be7-8192-839845ed7607
DTSTART;VALUE=DATE:20010101
DESCRIPTION:Property ID# 43325
SUMMARY:Auction for 
END:VEVENT
END:VCALENDAR
