BEGIN:VCALENDAR
VERSION:2.0
PRODID:icalendar-ruby
CALSCALE:GREGORIAN
BEGIN:VEVENT
DTSTAMP:20210122T135340Z
UID:288e9521-9fa4-4676-9a1c-9f4851982729
DTSTART;VALUE=DATE:20191127
DESCRIPTION:Property ID# 466449\, Time: 4:00PM
SUMMARY:Auction for 
END:VEVENT
END:VCALENDAR
