BEGIN:VCALENDAR
VERSION:2.0
PRODID:icalendar-ruby
CALSCALE:GREGORIAN
BEGIN:VEVENT
DTSTAMP:20210122T135337Z
UID:2e79c866-aa8c-4fe9-8933-ef41808260d8
DTSTART;VALUE=DATE:20200131
DESCRIPTION:Property ID# 470243\, Locatoin: In-rooms\, 219 Devon Street Eas
 t\, New Plymouth Central\, Time: 12:00PM
SUMMARY:Auction for 
END:VEVENT
END:VCALENDAR
