BEGIN:VCALENDAR
VERSION:2.0
PRODID:icalendar-ruby
CALSCALE:GREGORIAN
BEGIN:VEVENT
DTSTAMP:20210122T135336Z
UID:1576c38f-7d0f-4d2e-b3c8-bdbaa2d4a9a6
DTSTART;VALUE=DATE:20200610
DESCRIPTION:Property ID# 481113\, Time: 4:00PM
SUMMARY:Auction for 
END:VEVENT
END:VCALENDAR
