BEGIN:VCALENDAR
VERSION:2.0
PRODID:icalendar-ruby
CALSCALE:GREGORIAN
BEGIN:VEVENT
DTSTAMP:20210122T135334Z
UID:53cebd2c-4160-46e0-b8a5-7466cf5a2199
DTSTART;VALUE=DATE:20200905
DESCRIPTION:Property ID# 486838\, Locatoin: On Site\, Time: 12:00PM
SUMMARY:Auction for 
END:VEVENT
END:VCALENDAR
