BEGIN:VCALENDAR
VERSION:2.0
PRODID:icalendar-ruby
CALSCALE:GREGORIAN
BEGIN:VEVENT
DTSTAMP:20210122T135330Z
UID:02c0a783-9e3c-4ffc-a655-a2923f1d4d54
DTSTART;VALUE=DATE:20200904
DESCRIPTION:Property ID# 487434\, Locatoin: In Rooms\, 219 Devon Street Eas
 t\, Time: 4:30PM
SUMMARY:Auction for 
END:VEVENT
END:VCALENDAR
