BEGIN:VCALENDAR
VERSION:2.0
PRODID:icalendar-ruby
CALSCALE:GREGORIAN
BEGIN:VEVENT
DTSTAMP:20181224T054950Z
UID:784fba97-a5f9-42b8-965f-cceb8564a857
DTSTART;VALUE=DATE:20031129
DESCRIPTION:Property ID# 67024\, Locatoin: On site - unless sold prior\, Ti
 me: 2 pm
SUMMARY:Auction for 
END:VEVENT
END:VCALENDAR
