BEGIN:VCALENDAR
VERSION:2.0
PRODID:icalendar-ruby
CALSCALE:GREGORIAN
BEGIN:VEVENT
DTSTAMP:20181224T055114Z
UID:6a3715f9-746a-4f44-a50c-af7f9e7cb6d3
DTSTART;VALUE=DATE:20031125
DESCRIPTION:Property ID# 68755\, Time: 4 pm - unless sold prior
SUMMARY:Auction for 
END:VEVENT
END:VCALENDAR
