BEGIN:VCALENDAR
VERSION:2.0
PRODID:icalendar-ruby
CALSCALE:GREGORIAN
BEGIN:VEVENT
DTSTAMP:20181224T055033Z
UID:40be7811-6e72-4670-a351-868898767814
DTSTART;VALUE=DATE:20050224
DESCRIPTION:Property ID# 98764\, Locatoin: On site. (if not sold prior)\, T
 ime: 7:00pm
SUMMARY:Auction for 
END:VEVENT
END:VCALENDAR
