BEGIN:VCALENDAR
VERSION:2.0
PRODID:icalendar-ruby
CALSCALE:GREGORIAN
BEGIN:VEVENT
DTSTAMP:20181224T055315Z
UID:31e552da-c7bd-4817-ad3b-aa09ca2056f7
DTSTART;TZID=Pacific/Auckland:20181223T110000
DTEND;TZID=Pacific/Auckland:20181223T113000
DESCRIPTION:Property ID# 437072
SUMMARY:Openhome for 739 Carrington Road
END:VEVENT
END:VCALENDAR
