BEGIN:VCALENDAR
VERSION:2.0
PRODID:icalendar-ruby
CALSCALE:GREGORIAN
BEGIN:VEVENT
DTSTAMP:20181224T055310Z
UID:06ed59ed-2f9c-4e5d-9683-35eaec292d7d
DTSTART;TZID=Pacific/Auckland:20181223T161500
DTEND;TZID=Pacific/Auckland:20181223T164500
DESCRIPTION:Property ID# 436944
SUMMARY:Openhome for 330 Kelly Road
END:VEVENT
END:VCALENDAR
