BEGIN:VCALENDAR
VERSION:2.0
PRODID:icalendar-ruby
CALSCALE:GREGORIAN
BEGIN:VEVENT
DTSTAMP:20181224T055305Z
UID:ab04124d-abd4-4d19-b8cd-8bdc7be8d984
DTSTART;TZID=Pacific/Auckland:20181223T124500
DTEND;TZID=Pacific/Auckland:20181223T131500
DESCRIPTION:Property ID# 436468
SUMMARY:Openhome for 5/32 Cowling Road
END:VEVENT
END:VCALENDAR
