BEGIN:VCALENDAR
VERSION:2.0
PRODID:icalendar-ruby
CALSCALE:GREGORIAN
BEGIN:VEVENT
DTSTAMP:20181224T055338Z
UID:3bb9fe93-d10d-4989-8c43-708e56aeefd7
DTSTART;TZID=Pacific/Auckland:20181223T110000
DTEND;TZID=Pacific/Auckland:20181223T113000
DESCRIPTION:Property ID# 440010
SUMMARY:Openhome for 36 Wesley Avenue
END:VEVENT
END:VCALENDAR
