BEGIN:VCALENDAR
VERSION:2.0
PRODID:icalendar-ruby
CALSCALE:GREGORIAN
BEGIN:VEVENT
DTSTAMP:20210122T134532Z
UID:3f0b326e-b59b-4ac2-8a4a-33586eea1f6a
DTSTART;TZID=Pacific/Auckland:20210124T130000
DTEND;TZID=Pacific/Auckland:20210124T140000
DESCRIPTION:Property ID# 499300
SUMMARY:Openhome for 64 McGiven Drive
END:VEVENT
END:VCALENDAR
