BEGIN:VCALENDAR
VERSION:2.0
PRODID:icalendar-ruby
CALSCALE:GREGORIAN
BEGIN:VEVENT
DTSTAMP:20210122T134542Z
UID:09b291b8-06d3-4d8f-9dc1-8119d5d4bd36
DTSTART;TZID=Pacific/Auckland:20210124T130000
DTEND;TZID=Pacific/Auckland:20210124T133000
DESCRIPTION:Property ID# 499276
SUMMARY:Openhome for 17B Clawton Street
END:VEVENT
END:VCALENDAR
