BEGIN:VCALENDAR
VERSION:2.0
PRODID:icalendar-ruby
CALSCALE:GREGORIAN
BEGIN:VEVENT
DTSTAMP:20210122T134538Z
UID:d959447b-f076-4293-a44c-234a3736618c
DTSTART;TZID=Pacific/Auckland:20210124T140000
DTEND;TZID=Pacific/Auckland:20210124T143000
DESCRIPTION:Property ID# 499621
SUMMARY:Openhome for 9 Rawhiti Street
END:VEVENT
END:VCALENDAR
