BEGIN:VCALENDAR
VERSION:2.0
PRODID:icalendar-ruby
CALSCALE:GREGORIAN
BEGIN:VEVENT
DTSTAMP:20210122T134550Z
UID:b262b5fd-e3b0-48a6-9af1-75af56722f09
DTSTART;TZID=Pacific/Auckland:20210124T123000
DTEND;TZID=Pacific/Auckland:20210124T130000
DESCRIPTION:Property ID# 498064
SUMMARY:Openhome for 187 Regan Street
END:VEVENT
END:VCALENDAR
