BEGIN:VCALENDAR
VERSION:2.0
PRODID:icalendar-ruby
CALSCALE:GREGORIAN
BEGIN:VEVENT
DTSTAMP:20210122T134543Z
UID:1316d0f1-c6be-46e6-9ee9-009f6880fc6b
DTSTART;TZID=Pacific/Auckland:20210123T123000
DTEND;TZID=Pacific/Auckland:20210123T130000
DESCRIPTION:Property ID# 499105
SUMMARY:Openhome for 10 Waterloo Place
END:VEVENT
END:VCALENDAR
