BEGIN:VCALENDAR
VERSION:2.0
PRODID:icalendar-ruby
CALSCALE:GREGORIAN
BEGIN:VEVENT
DTSTAMP:20210122T134554Z
UID:c6c0ea88-2db2-4628-84a9-adf074b6a89e
DTSTART;TZID=Pacific/Auckland:20210124T130000
DTEND;TZID=Pacific/Auckland:20210124T133000
DESCRIPTION:Property ID# 498557
SUMMARY:Openhome for 366 Devon Street West
END:VEVENT
END:VCALENDAR
