BEGIN:VCALENDAR
VERSION:2.0
PRODID:icalendar-ruby
CALSCALE:GREGORIAN
BEGIN:VEVENT
DTSTAMP:20210122T135151Z
UID:9b4fcd97-333a-40ec-9968-f169acde95a5
DTSTART;TZID=Pacific/Auckland:20210124T140000
DTEND;TZID=Pacific/Auckland:20210124T143000
DESCRIPTION:Property ID# 497492
SUMMARY:Openhome for 12 Tayler street
END:VEVENT
END:VCALENDAR
