BEGIN:VCALENDAR
VERSION:2.0
PRODID:icalendar-ruby
CALSCALE:GREGORIAN
BEGIN:VEVENT
DTSTAMP:20210122T135152Z
UID:89638567-03fa-455c-8712-4b7e4c3ecc03
DTSTART;TZID=Pacific/Auckland:20210122T131500
DTEND;TZID=Pacific/Auckland:20210122T134500
DESCRIPTION:Property ID# 495878
SUMMARY:Openhome for 
END:VEVENT
END:VCALENDAR
