BEGIN:VCALENDAR
VERSION:2.0
PRODID:icalendar-ruby
CALSCALE:GREGORIAN
BEGIN:VEVENT
DTSTAMP:20210122T134531Z
UID:a2fe67ff-37fd-4bc8-ab74-d175dbcb519c
DTSTART;TZID=Pacific/Auckland:20210124T103000
DTEND;TZID=Pacific/Auckland:20210124T110000
DESCRIPTION:Property ID# 499446
SUMMARY:Openhome for 12 Tangaroa Street
END:VEVENT
END:VCALENDAR
